BEGIN:VCALENDAR
METHOD:PUBLISH
VERSION:2.0
CALSCALE:GREGORIAN
PRODID:-//NONSGML WPForms//NONSGML Sugar Calendar Feeds v3.9.0//EN
X-WR-CALNAME:Board of Education Meeting - LMHS Cafeteria
X-WR-CALDESC:Laurel School District
X-WR-TIMEZONE:UTC
BEGIN:VTIMEZONE
TZID:UTC
BEGIN:STANDARD
TZOFFSETFROM:+0000
TZOFFSETTO:+0000
DTSTART:20251217T070000
TZNAME:UTC
END:STANDARD
END:VTIMEZONE
BEGIN:VTIMEZONE
TZID:UTC
BEGIN:STANDARD
TZOFFSETFROM:+0000
TZOFFSETTO:+0000
DTSTART:20251217T070000
TZNAME:UTC
END:STANDARD
END:VTIMEZONE
BEGIN:VEVENT
SUMMARY:Board of Education Meeting - LMHS Cafeteria
DESCRIPTION:
URL;VALUE=URI:https://laurelschooldistrict.org/events/board-of-education
 -meeting-lmhs-cafeteria-3/
UID:urn:uuid:84be5987-2526-49f3-a186-8bb099ddb7fe
STATUS:CONFIRMED
ORGANIZER:
DTSTAMP:20260423T164403Z
DTSTART;TZID=UTC:20260617T190000
DTEND;TZID=UTC:20260617T200000
END:VEVENT
END:VCALENDAR