BEGIN:VCALENDAR
METHOD:PUBLISH
VERSION:2.0
CALSCALE:GREGORIAN
PRODID:-//NONSGML WPForms//NONSGML Sugar Calendar Feeds v3.9.0//EN
X-WR-CALNAME:Board of Education Meeting - LMHS Cafeteria
X-WR-CALDESC:Laurel School District
X-WR-TIMEZONE:UTC
BEGIN:VTIMEZONE
TZID:UTC
BEGIN:STANDARD
TZOFFSETFROM:+0000
TZOFFSETTO:+0000
DTSTART:20250409T070000
TZNAME:UTC
END:STANDARD
END:VTIMEZONE
BEGIN:VTIMEZONE
TZID:UTC
BEGIN:STANDARD
TZOFFSETFROM:+0000
TZOFFSETTO:+0000
DTSTART:20250409T070000
TZNAME:UTC
END:STANDARD
END:VTIMEZONE
BEGIN:VEVENT
SUMMARY:Board of Education Meeting - LMHS Cafeteria
DESCRIPTION:
URL;VALUE=URI:https://laurelschooldistrict.org/events/board-of-education
 -meeting-lmhs-cafeteria/
UID:urn:uuid:348d72f5-ccc8-49bd-a47e-72f43f1b5a50
STATUS:CONFIRMED
ORGANIZER:
DTSTAMP:20260423T164059Z
DTSTART;TZID=UTC:20251008T190000
DTEND;TZID=UTC:20251008T200000
END:VEVENT
END:VCALENDAR