BEGIN:VCALENDAR
METHOD:PUBLISH
VERSION:2.0
CALSCALE:GREGORIAN
PRODID:-//NONSGML WPForms//NONSGML Sugar Calendar Feeds v3.9.0//EN
X-WR-CALNAME:District Professional Dev./PLC Day for Staff - Schools Clos
 ed for Students
X-WR-CALDESC:Laurel School District
X-WR-TIMEZONE:UTC
BEGIN:VTIMEZONE
TZID:UTC
BEGIN:STANDARD
TZOFFSETFROM:+0000
TZOFFSETTO:+0000
DTSTART:20250410T120000
TZNAME:UTC
END:STANDARD
END:VTIMEZONE
BEGIN:VTIMEZONE
TZID:UTC
BEGIN:STANDARD
TZOFFSETFROM:+0000
TZOFFSETTO:+0000
DTSTART:20250410T120000
TZNAME:UTC
END:STANDARD
END:VTIMEZONE
BEGIN:VEVENT
SUMMARY:District Professional Dev./PLC Day for Staff - Schools Closed fo
 r Students
DESCRIPTION:
URL;VALUE=URI:https://laurelschooldistrict.org/events/district-professio
 nal-dev-plc-day-for-staff-schools-closed-for-students-6/
UID:urn:uuid:f3663805-5bee-4908-973b-827679314fd8
STATUS:CONFIRMED
ORGANIZER:
DTSTAMP:20260420T103750Z
DTSTART;VALUE=DATE:20251010
END:VEVENT
END:VCALENDAR