BEGIN:VCALENDAR
METHOD:PUBLISH
VERSION:2.0
CALSCALE:GREGORIAN
PRODID:-//NONSGML WPForms//NONSGML Sugar Calendar Feeds v3.9.0//EN
X-WR-CALNAME:Teacher Comp Day for Parent Conferences - Schools Closed fo
 r Students
X-WR-CALDESC:Laurel School District
X-WR-TIMEZONE:UTC
BEGIN:VTIMEZONE
TZID:UTC
BEGIN:STANDARD
TZOFFSETFROM:+0000
TZOFFSETTO:+0000
DTSTART:20251120T120000
TZNAME:UTC
END:STANDARD
END:VTIMEZONE
BEGIN:VTIMEZONE
TZID:UTC
BEGIN:STANDARD
TZOFFSETFROM:+0000
TZOFFSETTO:+0000
DTSTART:20251120T120000
TZNAME:UTC
END:STANDARD
END:VTIMEZONE
BEGIN:VEVENT
SUMMARY:Teacher Comp Day for Parent Conferences - Schools Closed for Stu
 dents
DESCRIPTION:
URL;VALUE=URI:https://laurelschooldistrict.org/events/teacher-comp-day-f
 or-parent-conferences-schools-closed-for-students/
UID:urn:uuid:7386cbac-f277-471e-9a07-07a569f7d6c9
STATUS:CONFIRMED
ORGANIZER:
DTSTAMP:20260423T150838Z
DTSTART;VALUE=DATE:20260522
END:VEVENT
END:VCALENDAR